BEGIN:VCALENDAR
VERSION:2.0
PRODID:SchoolNow
CALSCALE:GREGORIAN
BEGIN:VEVENT
UID:d6446afc-ecbc-11f0-8e1d-0e8725f735c1
DTSTAMP:20260423T095507Z
SUMMARY:HMS - Spring Sports Awards
URL;VALUE=URI:https://www.sau81.org/hms/calendar/8832833/hms-spring-sports-
 awards
DTSTART:20260609T213000Z
DTEND:20260609T223000Z
END:VEVENT
END:VCALENDAR
