BEGIN:VCALENDAR
VERSION:2.0
PRODID:SchoolNow
CALSCALE:GREGORIAN
BEGIN:VEVENT
UID:80417894-d799-11f0-99bd-0a58a9feac02
DTSTAMP:20260423T160007Z
SUMMARY:HMS - Spirit Day - Pajama Day (wear pajamas)
URL;VALUE=URI:https://www.sau81.org/hms/calendar/8823001/hms-spirit-day-paj
 ama-day-wear-pajamas
DTSTART;VALUE=DATE:20251223
DTEND;VALUE=DATE:20251224
END:VEVENT
END:VCALENDAR
