BEGIN:VCALENDAR
VERSION:2.0
PRODID:SchoolNow
CALSCALE:GREGORIAN
BEGIN:VEVENT
UID:d68a33c8-d139-11f0-8d58-0ee07ac699e7
DTSTAMP:20260423T095507Z
SUMMARY:HMS - Ski Club
URL;VALUE=URI:https://www.sau81.org/hms/calendar/8817483/hms-ski-club
DTSTART:20260122T193000Z
DTEND:20260123T010000Z
END:VEVENT
END:VCALENDAR
