BEGIN:VCALENDAR
VERSION:2.0
PRODID:SchoolNow
CALSCALE:GREGORIAN
BEGIN:VEVENT
UID:d68a31c0-d139-11f0-83e3-0ee07ac699e7
DTSTAMP:20260423T095507Z
SUMMARY:HMS - Ski Club
URL;VALUE=URI:https://www.sau81.org/hms/calendar/8817481/hms-ski-club
DTSTART:20260108T193000Z
DTEND:20260109T010000Z
END:VEVENT
END:VCALENDAR
