BEGIN:VCALENDAR
VERSION:2.0
PRODID:SchoolNow
CALSCALE:GREGORIAN
BEGIN:VEVENT
UID:d68a3008-d139-11f0-b9a6-0ee07ac699e7
DTSTAMP:20260423T095507Z
SUMMARY:HMS - 7th & 8th Grade Band - Large Group Festival
URL;VALUE=URI:https://www.sau81.org/hms/calendar/8817480/hms-7th-8th-grade-
 band-large-group-festival
DTSTART;VALUE=DATE:20260314
DTEND;VALUE=DATE:20260315
END:VEVENT
END:VCALENDAR
