BEGIN:VCALENDAR
VERSION:2.0
PRODID:SchoolNow
CALSCALE:GREGORIAN
BEGIN:VEVENT
UID:d68a2e50-d139-11f0-b9d7-0ee07ac699e7
DTSTAMP:20260423T095507Z
SUMMARY:HMS - 6th Grade Trip to 'Percy Jackson' play
URL;VALUE=URI:https://www.sau81.org/hms/calendar/8817479/hms-6th-grade-trip
 -to-percy-jackson-play
DTSTART;VALUE=DATE:20260311
DTEND;VALUE=DATE:20260312
END:VEVENT
END:VCALENDAR
