BEGIN:VCALENDAR
VERSION:2.0
PRODID:SchoolNow
CALSCALE:GREGORIAN
BEGIN:VEVENT
UID:d68a2bbc-d139-11f0-ace3-0ee07ac699e7
DTSTAMP:20260423T095507Z
SUMMARY:HMS - Karaoke Friday
URL;VALUE=URI:https://www.sau81.org/hms/calendar/8817478/hms-karaoke-friday
DTSTART:20260313T183000Z
DTEND:20260313T193000Z
END:VEVENT
END:VCALENDAR
