BEGIN:VCALENDAR
VERSION:2.0
PRODID:SchoolNow
CALSCALE:GREGORIAN
BEGIN:VEVENT
UID:d68a2964-d139-11f0-b04c-0ee07ac699e7
DTSTAMP:20260423T095507Z
SUMMARY:HMS - NH State Chess Tournament
URL;VALUE=URI:https://www.sau81.org/hms/calendar/8817477/hms-nh-state-chess
 -tournament
DTSTART;VALUE=DATE:20260328
DTEND;VALUE=DATE:20260329
END:VEVENT
END:VCALENDAR
