BEGIN:VCALENDAR
VERSION:2.0
PRODID:SchoolNow
CALSCALE:GREGORIAN
BEGIN:VEVENT
UID:d68a270c-d139-11f0-a6c4-0ee07ac699e7
DTSTAMP:20260423T095507Z
SUMMARY:HMS - Spanish National Honors Society Induction
LOCATION:Library Media Center
URL;VALUE=URI:https://www.sau81.org/hms/calendar/8817476/hms-spanish-nation
 al-honors-society-induction
DTSTART:20260325T223000Z
DTEND:20260325T230000Z
END:VEVENT
END:VCALENDAR
