BEGIN:VCALENDAR
VERSION:2.0
PRODID:SchoolNow
CALSCALE:GREGORIAN
BEGIN:VEVENT
UID:d68a2270-d139-11f0-a7ff-0ee07ac699e7
DTSTAMP:20260423T095507Z
SUMMARY:HMS - 5th Grade Parent Information Night
URL;VALUE=URI:https://www.sau81.org/hms/calendar/8817475/hms-5th-grade-pare
 nt-information-night
DTSTART:20260326T213000Z
DTEND:20260326T223000Z
END:VEVENT
END:VCALENDAR
