BEGIN:VCALENDAR
VERSION:2.0
PRODID:SchoolNow
CALSCALE:GREGORIAN
BEGIN:VEVENT
UID:30526d58-ca41-11f0-b9b3-0a58a9feac02
DTSTAMP:20260423T095507Z
SUMMARY:HMS - Coffee House
LOCATION:HMS Library Media Center
URL;VALUE=URI:https://www.sau81.org/hms/calendar/8809802/hms-coffee-house
DTSTART:20260217T220000Z
DTEND:20260218T010000Z
END:VEVENT
END:VCALENDAR
