BEGIN:VCALENDAR
VERSION:2.0
PRODID:SchoolNow
CALSCALE:GREGORIAN
BEGIN:VEVENT
UID:73e53b48-af90-11f0-9015-0a58a9feac02
DTSTAMP:20260423T035007Z
SUMMARY:HMS - 8th Grade Hispanic Ballet Field Trip
URL;VALUE=URI:https://www.sau81.org/hms/calendar/8743375/hms-8th-grade-hisp
 anic-ballet-field-trip
DTSTART:20260403T120000Z
DTEND:20260403T180000Z
END:VEVENT
END:VCALENDAR
