BEGIN:VCALENDAR
VERSION:2.0
PRODID:SchoolNow
CALSCALE:GREGORIAN
BEGIN:VEVENT
UID:73e53986-af90-11f0-9de9-0a58a9feac02
DTSTAMP:20260423T035007Z
SUMMARY:HMS - Beauty and the Beast Musical Performance
URL;VALUE=URI:https://www.sau81.org/hms/calendar/8743374/hms-beauty-and-the
 -beast-musical-performance
DTSTART:20260410T223000Z
DTEND:20260411T003000Z
END:VEVENT
END:VCALENDAR
