BEGIN:VCALENDAR
VERSION:2.0
PRODID:SchoolNow
CALSCALE:GREGORIAN
BEGIN:VEVENT
UID:73e530bc-af90-11f0-a347-0a58a9feac02
DTSTAMP:20260423T095507Z
SUMMARY:HMS - PTO Meeting
URL;VALUE=URI:https://www.sau81.org/hms/calendar/8743372/hms-pto-meeting
DTSTART:20260318T223000Z
DTEND:20260318T233000Z
END:VEVENT
END:VCALENDAR
