BEGIN:VCALENDAR
VERSION:2.0
PRODID:SchoolNow
CALSCALE:GREGORIAN
BEGIN:VEVENT
UID:73e52fc2-af90-11f0-8b2c-0a58a9feac02
DTSTAMP:20260423T095507Z
SUMMARY:HMS STEAM Night
URL;VALUE=URI:https://www.sau81.org/hms/calendar/8743371/hms-steam-night
DTSTART:20260312T210000Z
DTEND:20260312T230000Z
END:VEVENT
END:VCALENDAR
