BEGIN:VCALENDAR
VERSION:2.0
PRODID:SchoolNow
CALSCALE:GREGORIAN
BEGIN:VEVENT
UID:73e52ebe-af90-11f0-8ac9-0a58a9feac02
DTSTAMP:20260423T095507Z
SUMMARY:HMS - Winter Sports Awards
URL;VALUE=URI:https://www.sau81.org/hms/calendar/8743370/hms-winter-sports-
 awards
DTSTART:20260311T230000Z
DTEND:20260312T000000Z
END:VEVENT
END:VCALENDAR
