BEGIN:VCALENDAR
VERSION:2.0
PRODID:SchoolNow
CALSCALE:GREGORIAN
BEGIN:VEVENT
UID:73e52dc4-af90-11f0-8b72-0a58a9feac02
DTSTAMP:20260423T095507Z
SUMMARY:HMS -  Parent Conferences
URL;VALUE=URI:https://www.sau81.org/hms/calendar/8743369/hms-parent-confere
 nces
DTSTART:20260219T210000Z
DTEND:20260220T010000Z
END:VEVENT
END:VCALENDAR
