BEGIN:VCALENDAR
VERSION:2.0
PRODID:SchoolNow
CALSCALE:GREGORIAN
BEGIN:VEVENT
UID:73e52b94-af90-11f0-836d-0a58a9feac02
DTSTAMP:20260423T095507Z
SUMMARY:HMS - Karaoke Friday
URL;VALUE=URI:https://www.sau81.org/hms/calendar/8743367/hms-karaoke-friday
DTSTART:20260213T193000Z
DTEND:20260213T203000Z
END:VEVENT
END:VCALENDAR
