BEGIN:VCALENDAR
VERSION:2.0
PRODID:SchoolNow
CALSCALE:GREGORIAN
BEGIN:VEVENT
UID:73e5281a-af90-11f0-a175-0a58a9feac02
DTSTAMP:20260423T095507Z
SUMMARY:HMS - PTO Meeting
URL;VALUE=URI:https://www.sau81.org/hms/calendar/8743366/hms-pto-meeting
DTSTART:20260121T233000Z
DTEND:20260122T003000Z
END:VEVENT
END:VCALENDAR
