BEGIN:VCALENDAR
VERSION:2.0
PRODID:SchoolNow
CALSCALE:GREGORIAN
BEGIN:VEVENT
UID:7937849e-af5d-11f0-8477-0afff5892ab1
DTSTAMP:20260423T095507Z
SUMMARY:HMS - Karaoke Friday
URL;VALUE=URI:https://www.sau81.org/hms/calendar/8742625/hms-karaoke-friday
DTSTART:20260116T193000Z
DTEND:20260116T203000Z
END:VEVENT
END:VCALENDAR
