BEGIN:VCALENDAR
VERSION:2.0
PRODID:SchoolNow
CALSCALE:GREGORIAN
BEGIN:VEVENT
UID:e75dadee-9d57-11f0-8865-0afff6cddf67
DTSTAMP:20260423T095507Z
SUMMARY:HMS iReady - Math (Winter)
URL;VALUE=URI:https://www.sau81.org/hms/calendar/8677014/hms-iready-math-wi
 nter
DTSTART;VALUE=DATE:20260108
DTEND;VALUE=DATE:20260109
END:VEVENT
END:VCALENDAR
