BEGIN:VCALENDAR
VERSION:2.0
PRODID:SchoolNow
CALSCALE:GREGORIAN
BEGIN:VEVENT
UID:e75dacc2-9d57-11f0-8965-0afff6cddf67
DTSTAMP:20260423T095507Z
SUMMARY:HMS iReady - Reading (Winter)
URL;VALUE=URI:https://www.sau81.org/hms/calendar/8677013/hms-iready-reading
 -winter
DTSTART;VALUE=DATE:20260106
DTEND;VALUE=DATE:20260107
END:VEVENT
END:VCALENDAR
