BEGIN:VCALENDAR
VERSION:2.0
PRODID:SchoolNow
CALSCALE:GREGORIAN
BEGIN:VEVENT
UID:e868fc9a-89d2-11f0-8db3-0a58a9feac02
DTSTAMP:20260423T095507Z
SUMMARY:HMS 8th Grade Washington DC Trip - Parent Meeting
URL;VALUE=URI:https://www.sau81.org/hms/calendar/8581651/hms-8th-grade-wash
 ington-dc-trip-parent-meeting
DTSTART:20260505T230000Z
DTEND:20260506T000000Z
END:VEVENT
END:VCALENDAR
