BEGIN:VCALENDAR
VERSION:2.0
PRODID:SchoolNow
CALSCALE:GREGORIAN
BEGIN:VEVENT
UID:2bcc8ab4-48b1-11f0-ba7a-02a5c122f23f
DTSTAMP:20260423T095507Z
SUMMARY:HMS - 8th Grade End of Year Dance
URL;VALUE=URI:https://www.sau81.org/hms/calendar/8299236/hms-8th-grade-end-
 of-year-dance
DTSTART:20260605T220000Z
DTEND:20260606T003000Z
END:VEVENT
END:VCALENDAR
