BEGIN:VCALENDAR
VERSION:2.0
PRODID:SchoolNow
CALSCALE:GREGORIAN
BEGIN:VEVENT
UID:2bcc89c4-48b1-11f0-b7ab-02a5c122f23f
DTSTAMP:20260423T035007Z
SUMMARY:HMS - 6/7th Grade Dance
URL;VALUE=URI:https://www.sau81.org/hms/calendar/8299235/hms-6-7th-grade-da
 nce
DTSTART:20260417T223000Z
DTEND:20260418T003000Z
END:VEVENT
END:VCALENDAR
