BEGIN:VCALENDAR
VERSION:2.0
PRODID:SchoolNow
CALSCALE:GREGORIAN
BEGIN:VEVENT
UID:2bcc88ca-48b1-11f0-8a0f-02a5c122f23f
DTSTAMP:20260423T095507Z
SUMMARY:HMS - 7/8th Grade Dance
URL;VALUE=URI:https://www.sau81.org/hms/calendar/8299234/hms-7-8th-grade-da
 nce
DTSTART:20260213T233000Z
DTEND:20260214T013000Z
END:VEVENT
END:VCALENDAR
