BEGIN:VCALENDAR
VERSION:2.0
PRODID:SchoolNow
CALSCALE:GREGORIAN
BEGIN:VEVENT
UID:7de44014-4251-11f0-8355-02c622539da7
DTSTAMP:20260423T095507Z
SUMMARY:HMS - Memorial Day - No School
URL;VALUE=URI:https://www.sau81.org/hms/calendar/8258593/hms-memorial-day-n
 o-school
DTSTART;VALUE=DATE:20260525
DTEND;VALUE=DATE:20260526
END:VEVENT
END:VCALENDAR
