BEGIN:VCALENDAR
VERSION:2.0
PRODID:SchoolNow
CALSCALE:GREGORIAN
BEGIN:VEVENT
UID:7de43f1a-4251-11f0-aeb1-02c622539da7
DTSTAMP:20260423T035007Z
SUMMARY:HMS - Spring Break - No School
URL;VALUE=URI:https://www.sau81.org/hms/calendar/8258592/hms-spring-break-n
 o-school
DTSTART;VALUE=DATE:20260427
DTEND;VALUE=DATE:20260502
END:VEVENT
END:VCALENDAR
