BEGIN:VCALENDAR
VERSION:2.0
PRODID:SchoolNow
CALSCALE:GREGORIAN
BEGIN:VEVENT
UID:7de43ae2-4251-11f0-95f0-02c622539da7
DTSTAMP:20260423T095507Z
SUMMARY:HMS - Teacher Workshop - No School
URL;VALUE=URI:https://www.sau81.org/hms/calendar/8258591/hms-teacher-worksh
 op-no-school
DTSTART;VALUE=DATE:20260310
DTEND;VALUE=DATE:20260311
END:VEVENT
END:VCALENDAR
