BEGIN:VCALENDAR
VERSION:2.0
PRODID:SchoolNow
CALSCALE:GREGORIAN
BEGIN:VEVENT
UID:7de439fc-4251-11f0-a361-02c622539da7
DTSTAMP:20260423T095507Z
SUMMARY:HMS - Winter Break - No School
URL;VALUE=URI:https://www.sau81.org/hms/calendar/8258590/hms-winter-break-n
 o-school
DTSTART;VALUE=DATE:20260223
DTEND;VALUE=DATE:20260228
END:VEVENT
END:VCALENDAR
