BEGIN:VCALENDAR
VERSION:2.0
PRODID:SchoolNow
CALSCALE:GREGORIAN
BEGIN:VEVENT
UID:7de4390c-4251-11f0-af9f-02c622539da7
DTSTAMP:20260423T095507Z
SUMMARY:HMS - Early Release for Students - PM Teacher Workshop
URL;VALUE=URI:https://www.sau81.org/hms/calendar/8258589/hms-early-release-
 for-students-pm-teacher-workshop
DTSTART;VALUE=DATE:20260209
DTEND;VALUE=DATE:20260210
END:VEVENT
END:VCALENDAR
