BEGIN:VCALENDAR
VERSION:2.0
PRODID:SchoolNow
CALSCALE:GREGORIAN
BEGIN:VEVENT
UID:7de4381c-4251-11f0-8a2b-02c622539da7
DTSTAMP:20260423T095507Z
SUMMARY:HMS - MLK/Civil Rights Day - No School
URL;VALUE=URI:https://www.sau81.org/hms/calendar/8258588/hms-mlk-civil-righ
 ts-day-no-school
DTSTART;VALUE=DATE:20260119
DTEND;VALUE=DATE:20260120
END:VEVENT
END:VCALENDAR
