BEGIN:VCALENDAR
VERSION:2.0
PRODID:SchoolNow
CALSCALE:GREGORIAN
BEGIN:VEVENT
UID:7de43736-4251-11f0-a210-02c622539da7
DTSTAMP:20260423T095507Z
SUMMARY:HMS - Holiday Break - No School
URL;VALUE=URI:https://www.sau81.org/hms/calendar/8258587/hms-holiday-break-
 no-school
DTSTART;VALUE=DATE:20251229
DTEND;VALUE=DATE:20260103
END:VEVENT
END:VCALENDAR
