BEGIN:VCALENDAR
VERSION:2.0
PRODID:SchoolNow
CALSCALE:GREGORIAN
BEGIN:VEVENT
UID:d8378f6a-3758-11f1-bbec-0affd0a3714b
DTSTAMP:20260425T205014Z
SUMMARY:HMS A - Track @ Woodbury
URL;VALUE=URI:https://www.sau81.org/hms/athletics/calendar/8990859/hms-a-tr
 ack-woodbury
DTSTART:20260514T193000Z
DTEND:20260514T203000Z
END:VEVENT
END:VCALENDAR
