BEGIN:VCALENDAR
VERSION:2.0
PRODID:SchoolNow
CALSCALE:GREGORIAN
BEGIN:VEVENT
UID:d8378dda-3758-11f1-8a0b-0affd0a3714b
DTSTAMP:20260425T205014Z
SUMMARY:HMS A - Track @ Pelham
URL;VALUE=URI:https://www.sau81.org/hms/athletics/calendar/8990858/hms-a-tr
 ack-pelham
DTSTART:20260507T194500Z
DTEND:20260507T204500Z
END:VEVENT
END:VCALENDAR
