BEGIN:VCALENDAR
VERSION:2.0
PRODID:SchoolNow
CALSCALE:GREGORIAN
BEGIN:VEVENT
UID:d837890c-3758-11f1-941e-0affd0a3714b
DTSTAMP:20260425T205014Z
SUMMARY:HMS A - Track @ Merrimack
URL;VALUE=URI:https://www.sau81.org/hms/athletics/calendar/8990857/hms-a-tr
 ack-merrimack
DTSTART;VALUE=DATE:20260528
DTEND;VALUE=DATE:20260529
END:VEVENT
END:VCALENDAR
