BEGIN:VCALENDAR
VERSION:2.0
PRODID:SchoolNow
CALSCALE:GREGORIAN
BEGIN:VEVENT
UID:36bdaa52-23d5-11f1-9128-0affcae6464d
DTSTAMP:20260425T205014Z
SUMMARY:HMS A - Spring Sports Informational Meeting
URL;VALUE=URI:https://www.sau81.org/hms/athletics/calendar/8931022/hms-a-sp
 ring-sports-informational-meeting
DTSTART:20260326T183000Z
DTEND:20260326T193000Z
END:VEVENT
END:VCALENDAR
