BEGIN:VCALENDAR
VERSION:2.0
PRODID:SchoolNow
CALSCALE:GREGORIAN
BEGIN:VEVENT
UID:d9eecddc-3834-11f1-a1cc-0affcb035dbd
DTSTAMP:20260420T150007Z
SUMMARY:HGS 5th Grade Step Up Day
URL;VALUE=URI:https://www.sau81.org/hgs/calendar/8993963/hgs-5th-grade-step
 -up-day
DTSTART;VALUE=DATE:20260513
DTEND;VALUE=DATE:20260514
END:VEVENT
END:VCALENDAR
