BEGIN:VCALENDAR
VERSION:2.0
PRODID:SchoolNow
CALSCALE:GREGORIAN
BEGIN:VEVENT
UID:d9eecbca-3834-11f1-9a1f-0affcb035dbd
DTSTAMP:20260420T150007Z
SUMMARY:HGS 3rd Grade Math SAS Testing
URL;VALUE=URI:https://www.sau81.org/hgs/calendar/8993961/hgs-3rd-grade-math
 -sas-testing
DTSTART;VALUE=DATE:20260513
DTEND;VALUE=DATE:20260514
END:VEVENT
END:VCALENDAR
