BEGIN:VCALENDAR
VERSION:2.0
PRODID:SchoolNow
CALSCALE:GREGORIAN
BEGIN:VEVENT
UID:d9eecaa8-3834-11f1-be21-0affcb035dbd
DTSTAMP:20260420T150007Z
SUMMARY:5th Grade to see Into the Woods play
URL;VALUE=URI:https://www.sau81.org/hgs/calendar/8993960/5th-grade-to-see-i
 nto-the-woods-play
DTSTART;VALUE=DATE:20260514
DTEND;VALUE=DATE:20260515
END:VEVENT
END:VCALENDAR
