BEGIN:VCALENDAR
VERSION:2.0
PRODID:SchoolNow
CALSCALE:GREGORIAN
BEGIN:VEVENT
UID:d9eec972-3834-11f1-9d3b-0affcb035dbd
DTSTAMP:20260420T210508Z
SUMMARY:HGS Field Day (Rain Date)
URL;VALUE=URI:https://www.sau81.org/hgs/calendar/8993959/hgs-field-day-rain
 -date
DTSTART;VALUE=DATE:20260615
DTEND;VALUE=DATE:20260616
END:VEVENT
END:VCALENDAR
