BEGIN:VCALENDAR
VERSION:2.0
PRODID:SchoolNow
CALSCALE:GREGORIAN
BEGIN:VEVENT
UID:d9eec7f6-3834-11f1-915a-0affcb035dbd
DTSTAMP:20260420T150007Z
SUMMARY:HGS 5th Grade Writing SAS Testing
URL;VALUE=URI:https://www.sau81.org/hgs/calendar/8993958/hgs-5th-grade-writ
 ing-sas-testing
DTSTART;VALUE=DATE:20260507
DTEND;VALUE=DATE:20260508
END:VEVENT
END:VCALENDAR
