BEGIN:VCALENDAR
VERSION:2.0
PRODID:SchoolNow
CALSCALE:GREGORIAN
BEGIN:VEVENT
UID:d9eec580-3834-11f1-9fe7-0affcb035dbd
DTSTAMP:20260420T150007Z
SUMMARY:HGS PTO Meeting
URL;VALUE=URI:https://www.sau81.org/hgs/calendar/8993957/hgs-pto-meeting
DTSTART:20260506T220000Z
DTEND:20260506T230000Z
END:VEVENT
END:VCALENDAR
