BEGIN:VCALENDAR
VERSION:2.0
PRODID:SchoolNow
CALSCALE:GREGORIAN
BEGIN:VEVENT
UID:d9eec102-3834-11f1-bbc8-0affcb035dbd
DTSTAMP:20260420T150007Z
SUMMARY:HGS Wear Red\, White and Blue Day
URL;VALUE=URI:https://www.sau81.org/hgs/calendar/8993956/hgs-wear-red-white
 -and-blue-day
DTSTART;VALUE=DATE:20260522
DTEND;VALUE=DATE:20260523
END:VEVENT
END:VCALENDAR
