BEGIN:VCALENDAR
VERSION:2.0
PRODID:SchoolNow
CALSCALE:GREGORIAN
BEGIN:VEVENT
UID:d9eebffe-3834-11f1-9146-0affcb035dbd
DTSTAMP:20260420T150007Z
SUMMARY:HGS Dress to Impress Day
URL;VALUE=URI:https://www.sau81.org/hgs/calendar/8993955/hgs-dress-to-impre
 ss-day
DTSTART;VALUE=DATE:20260508
DTEND;VALUE=DATE:20260509
END:VEVENT
END:VCALENDAR
