BEGIN:VCALENDAR
VERSION:2.0
PRODID:SchoolNow
CALSCALE:GREGORIAN
BEGIN:VEVENT
UID:d9eebd60-3834-11f1-933b-0affcb035dbd
DTSTAMP:20260420T150007Z
SUMMARY:3rd and 4th Grade SAS Reading Testing
URL;VALUE=URI:https://www.sau81.org/hgs/calendar/8993953/3rd-and-4th-grade-
 sas-reading-testing
DTSTART;VALUE=DATE:20260506
DTEND;VALUE=DATE:20260507
END:VEVENT
END:VCALENDAR
