BEGIN:VCALENDAR
VERSION:2.0
PRODID:SchoolNow
CALSCALE:GREGORIAN
BEGIN:VEVENT
UID:d9eebb4e-3834-11f1-b446-0affcb035dbd
DTSTAMP:20260420T150007Z
SUMMARY:HGS SAS Reading Testing
URL;VALUE=URI:https://www.sau81.org/hgs/calendar/8993951/hgs-sas-reading-te
 sting
DTSTART;VALUE=DATE:20260505
DTEND;VALUE=DATE:20260506
END:VEVENT
END:VCALENDAR
