BEGIN:VCALENDAR
VERSION:2.0
PRODID:SchoolNow
CALSCALE:GREGORIAN
BEGIN:VEVENT
UID:d9eeba04-3834-11f1-9e3f-0affcb035dbd
DTSTAMP:20260420T150007Z
SUMMARY:HGS 5th Grade Math SAS
URL;VALUE=URI:https://www.sau81.org/hgs/calendar/8993950/hgs-5th-grade-math
 -sas
DTSTART;VALUE=DATE:20260512
DTEND;VALUE=DATE:20260513
END:VEVENT
END:VCALENDAR
