BEGIN:VCALENDAR
VERSION:2.0
PRODID:SchoolNow
CALSCALE:GREGORIAN
BEGIN:VEVENT
UID:d9eeb8b0-3834-11f1-9fa9-0affcb035dbd
DTSTAMP:20260420T150007Z
SUMMARY:HGS 3rd and 4th Grade Writing SAS Testing
URL;VALUE=URI:https://www.sau81.org/hgs/calendar/8993949/hgs-3rd-and-4th-gr
 ade-writing-sas-testing
DTSTART;VALUE=DATE:20260508
DTEND;VALUE=DATE:20260509
END:VEVENT
END:VCALENDAR
