BEGIN:VCALENDAR
VERSION:2.0
PRODID:SchoolNow
CALSCALE:GREGORIAN
BEGIN:VEVENT
UID:d9eeb748-3834-11f1-b657-0affcb035dbd
DTSTAMP:20260420T210508Z
SUMMARY:HGS Last Day of School dismissal at 12:30 p.m.
URL;VALUE=URI:https://www.sau81.org/hgs/calendar/8993948/hgs-last-day-of-sc
 hool-dismissal-at-12-30-p-m
DTSTART;VALUE=DATE:20260616
DTEND;VALUE=DATE:20260617
END:VEVENT
END:VCALENDAR
